BEGIN:VCALENDAR
VERSION:2.0
PRODID:-//Eastern West Virginia Community and Technical College - ECPv6.15.20//NONSGML v1.0//EN
CALSCALE:GREGORIAN
METHOD:PUBLISH
X-ORIGINAL-URL:https://easternwv.edu
X-WR-CALDESC:Events for Eastern West Virginia Community and Technical College
REFRESH-INTERVAL;VALUE=DURATION:PT1H
X-Robots-Tag:noindex
X-PUBLISHED-TTL:PT1H
BEGIN:VTIMEZONE
TZID:America/New_York
BEGIN:DAYLIGHT
TZOFFSETFROM:-0500
TZOFFSETTO:-0400
TZNAME:EDT
DTSTART:20230312T070000
END:DAYLIGHT
BEGIN:STANDARD
TZOFFSETFROM:-0400
TZOFFSETTO:-0500
TZNAME:EST
DTSTART:20231105T060000
END:STANDARD
BEGIN:DAYLIGHT
TZOFFSETFROM:-0500
TZOFFSETTO:-0400
TZNAME:EDT
DTSTART:20240310T070000
END:DAYLIGHT
BEGIN:STANDARD
TZOFFSETFROM:-0400
TZOFFSETTO:-0500
TZNAME:EST
DTSTART:20241103T060000
END:STANDARD
BEGIN:DAYLIGHT
TZOFFSETFROM:-0500
TZOFFSETTO:-0400
TZNAME:EDT
DTSTART:20250309T070000
END:DAYLIGHT
BEGIN:STANDARD
TZOFFSETFROM:-0400
TZOFFSETTO:-0500
TZNAME:EST
DTSTART:20251102T060000
END:STANDARD
BEGIN:DAYLIGHT
TZOFFSETFROM:-0500
TZOFFSETTO:-0400
TZNAME:EDT
DTSTART:20260308T070000
END:DAYLIGHT
BEGIN:STANDARD
TZOFFSETFROM:-0400
TZOFFSETTO:-0500
TZNAME:EST
DTSTART:20261101T060000
END:STANDARD
END:VTIMEZONE
BEGIN:VEVENT
DTSTART;VALUE=DATE:20241004
DTEND;VALUE=DATE:20241112
DTSTAMP:20260419T112106
CREATED:20241004T183526Z
LAST-MODIFIED:20241030T134212Z
UID:10000283-1728000000-1731369599@easternwv.edu
SUMMARY:First-Generation Student Art & Literary Showcase: “Why I Am First”
DESCRIPTION:Themes:   \n‘Why I am First’ (For First-Gen Students only)\nOpen Theme (Non-First-Generation students & *First-Gen Students)\n*First-Gen students must submit one artwork/literature for the theme. A second artwork can be submitted for either the theme or the open theme.\n \nSubmission Guidelines: \nFirst-generation students can submit art\, poetry\, essays\, or photography reflecting their experiences and identity as first-generation college students by Monday\, November 11\, 2024. \n\nStudents who are not first-gen\, but would like to submit\, are allowed to do so. Art and literature can be of any topic for non-first-gen students. First-gen students are also permitted to submit for any theme but MUST have one submission on the ‘Why I am First’ prompt. Only first-gen students are eligible to win the ‘Why I am First’ award. \n\n\nAll submissions must be framed\, including written works. Please reach out to trent.montgomery@easternwv.edu if you need help with acquiring a frame.\nIf you can’t provide a physical version of your work to be displayed\, you can submit a jpg\, png\, or pdf of your art or writing. There will be an online gallery for these entries!\nNo more than two submissions per person.\nPlease do not ship your artwork to the college without approval. If approved\, you MUST provide return shipping costs.\nAll mediums will be accepted.\nComplete the submission form at https://bit.ly/3Y93CE3\nSpots are on a first-come\, first-serve basis with current Eastern Students taking precedence.\n\nEmail trent.montgomery@easternwv.edu to schedule a time to drop off artwork once you have completed the application. \nWinners will be chosen by a select group of Eastern Faculty/Staff. \nPrizes: \n\n\nBest in Show-$100 Amazon Card\n‘Why I am First’ Prize-$75 Amazon Card\nHonorable Mention-$25 Amazon Card\nEach winner will also get an Eastern Gear Pack.
URL:https://easternwv.edu/event/first-generation-student-art-literary-showcase-why-i-am-first/
LOCATION:Eastern West Virginia Community and Technical College\, 316 Eastern Drive\, Moorefield\, WV\, 26836\, United States
CATEGORIES:Fall 2024
END:VEVENT
BEGIN:VEVENT
DTSTART;VALUE=DATE:20241101
DTEND;VALUE=DATE:20241208
DTSTAMP:20260419T112106
CREATED:20241023T161258Z
LAST-MODIFIED:20241023T182720Z
UID:10000287-1730419200-1733615999@easternwv.edu
SUMMARY:New York City Bus Trip: Open to the Public
DESCRIPTION:Tickets go on sale October 28\, 2024 – $125 (payment is due at the time of reservation) \nLeave from Eastern on Saturday\, December 7 at 5:30 a.m. and be in NYC from 12 p.m. – 9 p.m.\nOpen to the general public\, tickets are $125. \nReserve your seat on the bus by calling – 304-434-8000 ext. 9413. \n\nNYC Trip Itinerary \nSaturday\, December 7\, 2024 \n5:15 am – Arrive at this time to allow yourself time to board the bus. \n5:30 am – Bus departs Eastern WV Community & Technical College\, 316 Eastern Drive\, Moorefield\, WV\, located off Corridor H (arrive by 5:15 am) \n**Pack your breakfast** \nApprox. 9:30 am – Quick bathroom stop \nApprox. 12 pm – Arrive in NYC \n12 pm-9 pm – Spend the day your way in NYC \n9 pm – The bus will depart from the city \nApprox. 1 am – Quick bathroom stop \nApprox. 3 am – Arrive at EWVCTC \nPopular Trip Options: \n·        Visit the Christmas Tree at Rockefeller Plaza\n·        Empire State Building\n·        One World Observatory\n\nBroadway Show\nIntrepid Museum\nRipley’s Believe It or Not! in Times Square\nMadison Square Garden Tour\nNBC Tour\nMadame Tussaud’s New York Wax Museum\nRadio City Tour\nNYC Opera\nLincoln Center\n\n  \nHere are a few links to check out: \n\nNew York City Tour Buses\n\nGray Line NY newyorksightseeing.com\nCity Sights NY citysightsny.com\n\n\n\n  \n\nNYC Insider Guide\n\nhttp://www.nycinsiderguide.com/New-York-City-Tourist-Map.html#axzz1S10DxoOC\n\n\n\n  \n\nFor tickets to Broadway shows:   \nbroadway.com\ntelecharge.com\n\n**No refunds/exchanges**
URL:https://easternwv.edu/event/new-york-city-bus-trip-open-to-the-public-2/
CATEGORIES:Fall 2024
END:VEVENT
BEGIN:VEVENT
DTSTART;VALUE=DATE:20241101
DTEND;VALUE=DATE:20250118
DTSTAMP:20260419T112106
CREATED:20241022T195836Z
LAST-MODIFIED:20241022T195836Z
UID:10000286-1730419200-1737158399@easternwv.edu
SUMMARY:Spring 2025 Enrollment Begins
DESCRIPTION:Enroll in classes for the Spring 2025 semester at Eastern West Virginia Community & Technical College starting on Friday\, November 1\, 2024\, and ending on Friday\, January 17\, 2025. \nHave you applied to Eastern? If your answer is no\, visit https://easternwv.edu/apply-now/ to find the application form or to apply online. \nLearn about ways to save money with financial aid at https://easternwv.edu/financial-aid/ \nIf you experience any issues or have questions or concerns\, please call 304-434-8000\, email askeastern@easternwv.edu\, or stop by campus and speak directly with Student Services.\nThe campus is open from 8 a.m. to 4 p.m. and we are located at 316 Eastern Drive\, Moorefield\, WV 26836.
URL:https://easternwv.edu/event/spring-2025-enrollment-begins/
LOCATION:Eastern West Virginia Community and Technical College\, 316 Eastern Drive\, Moorefield\, WV\, 26836\, United States
CATEGORIES:Academics,Admissions,Spring 2025
END:VEVENT
END:VCALENDAR