BEGIN:VCALENDAR
VERSION:2.0
PRODID:-//Eastern West Virginia Community and Technical College - ECPv6.15.20//NONSGML v1.0//EN
CALSCALE:GREGORIAN
METHOD:PUBLISH
X-ORIGINAL-URL:https://easternwv.edu
X-WR-CALDESC:Events for Eastern West Virginia Community and Technical College
REFRESH-INTERVAL;VALUE=DURATION:PT1H
X-Robots-Tag:noindex
X-PUBLISHED-TTL:PT1H
BEGIN:VTIMEZONE
TZID:America/New_York
BEGIN:DAYLIGHT
TZOFFSETFROM:-0500
TZOFFSETTO:-0400
TZNAME:EDT
DTSTART:20220313T070000
END:DAYLIGHT
BEGIN:STANDARD
TZOFFSETFROM:-0400
TZOFFSETTO:-0500
TZNAME:EST
DTSTART:20221106T060000
END:STANDARD
BEGIN:DAYLIGHT
TZOFFSETFROM:-0500
TZOFFSETTO:-0400
TZNAME:EDT
DTSTART:20230312T070000
END:DAYLIGHT
BEGIN:STANDARD
TZOFFSETFROM:-0400
TZOFFSETTO:-0500
TZNAME:EST
DTSTART:20231105T060000
END:STANDARD
BEGIN:DAYLIGHT
TZOFFSETFROM:-0500
TZOFFSETTO:-0400
TZNAME:EDT
DTSTART:20240310T070000
END:DAYLIGHT
BEGIN:STANDARD
TZOFFSETFROM:-0400
TZOFFSETTO:-0500
TZNAME:EST
DTSTART:20241103T060000
END:STANDARD
END:VTIMEZONE
BEGIN:VEVENT
DTSTART;TZID=America/New_York:20231010T120000
DTEND;TZID=America/New_York:20231010T130000
DTSTAMP:20260423T084629
CREATED:20230923T163952Z
LAST-MODIFIED:20231004T200634Z
UID:10000219-1696939200-1696942800@easternwv.edu
SUMMARY:Career Services Mini-Course: Let's Learn LinkedIn
DESCRIPTION:Career Services Presents  – Let’s Learn LinkedIn  \nRegister to attend here! \nThe topics will include: \n\nLinkedIn Basics 101\nTips on Profile Optimization\nTake Action: Engagement\, Networking\, & Outreach.\nPlus\, a FREE Professional Digital Headshot\n\nFree Chic-fil-A lunch provided! \nPresented by Dixie Heavener\, Career Counselor | Room 111 at Eastern’s Main Campus and over Zoom at https://bit.ly/44IZU4c \nAll are welcome to attend! \nTuesday\, October 10\, 2023 | 12 p.m. \nSee the full Mini-Course schedule here.
URL:https://easternwv.edu/event/career-services-mini-course-lets-learn-linkedin/
LOCATION:Eastern West Virginia Community and Technical College\, 316 Eastern Drive\, Moorefield\, WV\, 26836\, United States
CATEGORIES:Career Services,Fall 2023
END:VEVENT
BEGIN:VEVENT
DTSTART;TZID=America/New_York:20231011T163000
DTEND;TZID=America/New_York:20231011T180000
DTSTAMP:20260423T084629
CREATED:20230906T161808Z
LAST-MODIFIED:20230914T151005Z
UID:10000211-1697041800-1697047200@easternwv.edu
SUMMARY:Art Club Session
DESCRIPTION:The second meet-up for the Art Club is Wednesday\, October 11 from 4:30 p.m. – 6 p.m. | Room 104b at Eastern’s Main Campus | Drawing & Illustration will be the main focus\, but feel free to bring other mediums with you!\nBring your own materials with you to draw from provided prompts\, a still life\, or whatever you want!
URL:https://easternwv.edu/event/art-club-starts/
LOCATION:Eastern West Virginia Community and Technical College\, 316 Eastern Drive\, Moorefield\, WV\, 26836\, United States
CATEGORIES:Fall 2023
END:VEVENT
BEGIN:VEVENT
DTSTART;TZID=America/New_York:20231011T173000
DTEND;TZID=America/New_York:20231011T183000
DTSTAMP:20260423T084629
CREATED:20230923T164506Z
LAST-MODIFIED:20231004T200902Z
UID:10000220-1697045400-1697049000@easternwv.edu
SUMMARY:Career Services Mine-Course: Test Taking and Anxiety
DESCRIPTION:Career Services Presents  – Academic Success Strategies: Test Taking and Anxiety \nRegister to attend here! \nThe topics will include: \n\nIdentify good study habits.\nRecognize ways to prevent test anxiety.\nLearn strategies for answering multiple-choice and open-ended questions.\n\nParticipants will be entered for a chance to win a $25 Amazon gift card! \nPresented by Lindsey Guinn\, Director of Institutional Effectiveness | Zoom at https://bit.ly/44TBbu2 \nAll are welcome to attend! \nWednesday\, October 11\, 2023 | 5:30 p.m. \nSee the full Mini-Course schedule here.
URL:https://easternwv.edu/event/career-services-mine-course-test-taking-and-anxiety/
LOCATION:Zoom
CATEGORIES:Career Services,Fall 2023
END:VEVENT
BEGIN:VEVENT
DTSTART;TZID=America/New_York:20231026T170000
DTEND;TZID=America/New_York:20231026T190000
DTSTAMP:20260423T084629
CREATED:20231013T113029Z
LAST-MODIFIED:20231013T113411Z
UID:10000225-1698339600-1698346800@easternwv.edu
SUMMARY:Board At College: Board Game Association
DESCRIPTION:Join Board at College-Eastern’s Board Game Association! We are a welcoming group that is always open to new members! This club is open to the community and free of charge. Come play on the last Thursday of each month in the Student Lounge from 5 p.m. to 7 p.m. Snacks and games are provided by Eastern!\n\n\nThis is a club dedicated to offering a fun\, safe space for students\, staff/faculty\, and the entire community to get together and play board games\, card games\, and a variety of tabletop games. Unleash your inner strategist and enjoy an inclusive space to de-stress and make new friends. \nGot a game at home that you’ve always wanted to play? Simply bring it with you to any of our meetings or enjoy playing one of the many games from our extensive collection featuring Codenames\, Trash Pandas\, Ticket to Ridge\, Taco Cat Goat Cheese Pizza\, One Night Ultimate Werewolf\, Sequence\, plus many\, many more. The collection will continue to grow so check this page often for updates.\n\nWanna connect directly with the club advisor? Contact Dixie Heavener at dixie.heavener@easternwv.edu\, visit her in the Career Center (Room 111)\, or call her at 304.434.8000 ext. 9239. Dixie is always open to suggestions on how to improve the club\, increase membership\, and discover new games to purchase. \nDon’t be BOARD in Moorefield. Bring your friends and come join a night of gaming at Eastern! \n\nOctober 26 from 5 p.m. to 7 p.m.
URL:https://easternwv.edu/event/board-at-college-board-game-association/
LOCATION:Eastern West Virginia Community and Technical College\, 316 Eastern Drive\, Moorefield\, WV\, 26836\, United States
CATEGORIES:Fall 2023
END:VEVENT
BEGIN:VEVENT
DTSTART;TZID=America/New_York:20231031T080000
DTEND;TZID=America/New_York:20231108T160000
DTSTAMP:20260423T084629
CREATED:20231031T145211Z
LAST-MODIFIED:20231031T145211Z
UID:10000229-1698739200-1699459200@easternwv.edu
SUMMARY:First-Gen Proud: Essay Contest
DESCRIPTION:We are thrilled to introduce our inaugural 1st GEN PROUD ESSAY CONTEST! \nThis competition serves as a platform to highlight the accomplishments of our first-generation students\, spanning all phases of their academic journeys. \nWe extend a warm invitation to first-generation students to share a concise personal essay in response to the following query: \n“What does being First Gen Proud mean to you? What aspects of being a first-generation college student fill you with pride? What unique strengths do you possess as a first-gen student\, and how have your experiences bolstered your academic pursuits?” \nEssay submissions should range from 400 to 500 words. Please also submit a selfie to be used on the website and/or social media! The essays will undergo an impartial evaluation process by esteemed faculty members from the Department of English. \nThe deadline is November 8\, 2023. Contact tiffany.sentman@easternwv.edu or trent.montgomery@easternwv.edu for more questions! \nWe will be awarding a Sheetz $25 gift card and Eastern gear to the winner.
URL:https://easternwv.edu/event/first-gen-proud-essay-contest/
LOCATION:WV
CATEGORIES:Academics,Fall 2023,Student Services
END:VEVENT
BEGIN:VEVENT
DTSTART;TZID=America/New_York:20231031T120000
DTEND;TZID=America/New_York:20231031T130000
DTSTAMP:20260423T084629
CREATED:20230923T165107Z
LAST-MODIFIED:20231013T111702Z
UID:10000221-1698753600-1698757200@easternwv.edu
SUMMARY:Career Services Mini-Course: Overcoming the Frightfully Scary Interview Process (Halloween Theme)
DESCRIPTION:Career Services Presents  – Overcoming the Frightfully Scary Interview Process (Halloween Theme) \n\n\n\n\nCostumes welcome!\nThe best costume wins a prize! (Judged by mini-course attendees)\nSpooky Treat Bags (One per attendee)\n\n\n\nFree Chic-fil-A lunch provided! \n\nPresented by Dixie Heavener\, Career Counselor | Room 104b at Eastern’s Main Campus and over Zoom at https://bit.ly/3Zd0yG6. \nAll are welcome to attend! \nTuesday\, October 31\, 2023 | 12 p.m. \nSee the full Mini-Course schedule here.
URL:https://easternwv.edu/event/career-services-mini-course-overcoming-the-frightfully-scary-interview-process-halloween-theme/
LOCATION:Eastern West Virginia Community and Technical College\, 316 Eastern Drive\, Moorefield\, WV\, 26836\, United States
CATEGORIES:Career Services,Fall 2023
END:VEVENT
BEGIN:VEVENT
DTSTART;TZID=America/New_York:20231031T170000
DTEND;TZID=America/New_York:20231031T183000
DTSTAMP:20260423T084629
CREATED:20230921T170928Z
LAST-MODIFIED:20230921T170928Z
UID:10000217-1698771600-1698777000@easternwv.edu
SUMMARY:Trunk N Treat
DESCRIPTION:A family-friendly event\, Trunk N Treat on the campus of Eastern West Virginia Community and Technical College provides a safe environment for children to trick or treat. \nThe event is set for Tuesday\, Oct. 31\, opening at 5 p.m. and ending at 6:30 p.m. \nTrunkers (participants handing out candy) should RSVP to Monica Wilson\, Interim Vice President of Academic and Student Services at monica.wilson@easternwv.edu by October 24\, 2023.
URL:https://easternwv.edu/event/trunk-n-treat-2023/
LOCATION:Eastern West Virginia Community and Technical College\, 316 Eastern Drive\, Moorefield\, WV\, 26836\, United States
CATEGORIES:Fall 2023
END:VEVENT
END:VCALENDAR