BEGIN:VCALENDAR
VERSION:2.0
PRODID:-//Eastern West Virginia Community and Technical College - ECPv6.15.20//NONSGML v1.0//EN
CALSCALE:GREGORIAN
METHOD:PUBLISH
X-WR-CALNAME:Eastern West Virginia Community and Technical College
X-ORIGINAL-URL:https://easternwv.edu
X-WR-CALDESC:Events for Eastern West Virginia Community and Technical College
REFRESH-INTERVAL;VALUE=DURATION:PT1H
X-Robots-Tag:noindex
X-PUBLISHED-TTL:PT1H
BEGIN:VTIMEZONE
TZID:America/New_York
BEGIN:DAYLIGHT
TZOFFSETFROM:-0500
TZOFFSETTO:-0400
TZNAME:EDT
DTSTART:20220313T070000
END:DAYLIGHT
BEGIN:STANDARD
TZOFFSETFROM:-0400
TZOFFSETTO:-0500
TZNAME:EST
DTSTART:20221106T060000
END:STANDARD
BEGIN:DAYLIGHT
TZOFFSETFROM:-0500
TZOFFSETTO:-0400
TZNAME:EDT
DTSTART:20230312T070000
END:DAYLIGHT
BEGIN:STANDARD
TZOFFSETFROM:-0400
TZOFFSETTO:-0500
TZNAME:EST
DTSTART:20231105T060000
END:STANDARD
BEGIN:DAYLIGHT
TZOFFSETFROM:-0500
TZOFFSETTO:-0400
TZNAME:EDT
DTSTART:20240310T070000
END:DAYLIGHT
BEGIN:STANDARD
TZOFFSETFROM:-0400
TZOFFSETTO:-0500
TZNAME:EST
DTSTART:20241103T060000
END:STANDARD
END:VTIMEZONE
BEGIN:VEVENT
DTSTART;VALUE=DATE:20230513
DTEND;VALUE=DATE:20230514
DTSTAMP:20260421T212815
CREATED:20230311T000736Z
LAST-MODIFIED:20230322T144158Z
UID:10000114-1683936000-1684022399@easternwv.edu
SUMMARY:New York City Bus Trip: Open to the Public!
DESCRIPTION:  \nLeave from Eastern on Saturday\, May 13 at 5:30 a.m. and be in NYC from 12 p.m. – 9 p.m.\nOpen to the general public\, tickets are $125. Reserve your seat on the bus by calling\n304-434-8000 ext. 9413.\nNYC Trip Itinerary\nMay 13\, 2023\n5:30 am – Bus departs Eastern WV Community & Technical College\, 316 Eastern Drive\, Moorefield\, WV\, located off Corridor H (arrive by 5:15 am) \n**Pack your breakfast** \nApprox. 9:30 am – Quick bathroom stop \nApprox. 12 pm – Arrive in NYC \n12 pm-9 pm – Spend the day your way in NYC \n9 pm – The bus will depart from the city \nApprox. 1 am – Quick bathroom stop \nApprox. 3 am – Arrive at EWVCTC \nPopular Trip Options: \nBroadway Show \nIntrepid Museum \nRipley’s Believe It or Not! in Times Square \nMadison Square Garden Tour \nNBC Tour \nLiberty Science Museum \nMadame Tussaud’s New York Wax Museum \nRadio City Tour \nNYC Opera \nLincoln Center \n  \nNew York City Tour Buses – City Sights NY www.citysightsny.com \nGray Line NY www.newyorksightseeing.com \n  \nHere are a few links to check out: \nhttp://www.nycgo.com/maps \nhttp://www.nycinsiderguide.com/New-York-City-Tourist-Map.html#axzz1S10DxoOC \nFor tickets to Broadway shows:    www.broadway.com www.telecharge.com \n**No refunds/exchanges**
URL:https://easternwv.edu/event/new-york-city-bus-trip-open-to-the-public/
LOCATION:WV
CATEGORIES:Spring 2023
END:VEVENT
END:VCALENDAR