BEGIN:VCALENDAR
VERSION:2.0
PRODID:-//Eastern West Virginia Community and Technical College - ECPv6.15.20//NONSGML v1.0//EN
CALSCALE:GREGORIAN
METHOD:PUBLISH
X-ORIGINAL-URL:https://easternwv.edu
X-WR-CALDESC:Events for Eastern West Virginia Community and Technical College
REFRESH-INTERVAL;VALUE=DURATION:PT1H
X-Robots-Tag:noindex
X-PUBLISHED-TTL:PT1H
BEGIN:VTIMEZONE
TZID:America/New_York
BEGIN:DAYLIGHT
TZOFFSETFROM:-0500
TZOFFSETTO:-0400
TZNAME:EDT
DTSTART:20220313T070000
END:DAYLIGHT
BEGIN:STANDARD
TZOFFSETFROM:-0400
TZOFFSETTO:-0500
TZNAME:EST
DTSTART:20221106T060000
END:STANDARD
BEGIN:DAYLIGHT
TZOFFSETFROM:-0500
TZOFFSETTO:-0400
TZNAME:EDT
DTSTART:20230312T070000
END:DAYLIGHT
BEGIN:STANDARD
TZOFFSETFROM:-0400
TZOFFSETTO:-0500
TZNAME:EST
DTSTART:20231105T060000
END:STANDARD
BEGIN:DAYLIGHT
TZOFFSETFROM:-0500
TZOFFSETTO:-0400
TZNAME:EDT
DTSTART:20240310T070000
END:DAYLIGHT
BEGIN:STANDARD
TZOFFSETFROM:-0400
TZOFFSETTO:-0500
TZNAME:EST
DTSTART:20241103T060000
END:STANDARD
END:VTIMEZONE
BEGIN:VEVENT
DTSTART;VALUE=DATE:20230224
DTEND;VALUE=DATE:20230518
DTSTAMP:20260420T192355
CREATED:20230303T190028Z
LAST-MODIFIED:20230303T201539Z
UID:10000110-1677196800-1684367999@easternwv.edu
SUMMARY:Hardy County Schools Art Shows
DESCRIPTION:Hardy County Schools are displaying art for their elementary-high school students in Eastern’s art gallery. The art will be on display Monday-Friday\, from 8 a.m. – 4 p.m. \nElementary-February 24 – March 30\nHigh School-March 31 – April 26\nMiddle School-April 27 – May 17
URL:https://easternwv.edu/event/hardy-county-schools-art-show-elementary/
LOCATION:Eastern West Virginia Community and Technical College\, 316 Eastern Drive\, Moorefield\, WV\, 26836\, United States
END:VEVENT
BEGIN:VEVENT
DTSTART;VALUE=DATE:20230301
DTEND;VALUE=DATE:20230302
DTSTAMP:20260420T192355
CREATED:20220220T025839Z
LAST-MODIFIED:20230301T171955Z
UID:10000166-1677628800-1677715199@easternwv.edu
SUMMARY:FAFSA Filing Deadline for High School Students
DESCRIPTION:
URL:https://easternwv.edu/event/fafsa-filing-deadline/
CATEGORIES:Financial Aid
END:VEVENT
BEGIN:VEVENT
DTSTART;VALUE=DATE:20230303
DTEND;VALUE=DATE:20230304
DTSTAMP:20260420T192355
CREATED:20230203T212039Z
LAST-MODIFIED:20230203T212039Z
UID:10000180-1677801600-1677887999@easternwv.edu
SUMMARY:Last Day to Apply for Spring 23 Graduation
DESCRIPTION:Submit your application by March 3 to graduate this Spring. You can submit your application to the Admissions Office at Eastern. \n  \n 
URL:https://easternwv.edu/event/last-day-to-apply-for-spring-23-graduation/
END:VEVENT
BEGIN:VEVENT
DTSTART;TZID=America/New_York:20230307T120000
DTEND;TZID=America/New_York:20230307T130000
DTSTAMP:20260420T192355
CREATED:20230301T150844Z
LAST-MODIFIED:20230301T200038Z
UID:10000109-1678190400-1678194000@easternwv.edu
SUMMARY:Career Services Mini Course: Personal Finance 101: Avoiding Fraud and Scams
DESCRIPTION:This Mini-Course will be in Room 111 at Eastern’s main campus from 12 p.m. to 1 p.m. on Tuesday\, March 7. \nLearn 10 things you can do to avoid fraud and how to avoid scams. \nRegister for the mini-course and complimentary Chick-fil-A lunch at the link here! \nAll students are welcome to attend! Bonus! Attend 4 mini-courses by the end of the academic year (May 2023) and earn a Level 1 Career Ready digital credential. \nCo-Presented by Becky Yokum\, Vice President/Community Bank Manager\, and Sydney Nazelrodt\, Community Bank Manager. \nQuestions? Ask Dixie Heavener\, Career Counselor\n304-434-8000 ext. 9239 or dixie.heavener@easternwv.edu
URL:https://easternwv.edu/event/career-services-mini-course-personal-finance-101-avoiding-fraud-and-scams/
LOCATION:Eastern West Virginia Community and Technical College\, 316 Eastern Drive\, Moorefield\, WV\, 26836\, United States
CATEGORIES:Career Services,Spring 2023
END:VEVENT
BEGIN:VEVENT
DTSTART;TZID=America/New_York:20230315T100000
DTEND;TZID=America/New_York:20230315T150000
DTSTAMP:20260420T192355
CREATED:20230206T235105Z
LAST-MODIFIED:20230304T064600Z
UID:10000178-1678874400-1678892400@easternwv.edu
SUMMARY:Potomac Highlands Agritourism Summit
DESCRIPTION:The future is bright for agribusiness entrepreneurs in the Potomac Highlands region looking to create a sustainable agritourism venture. Network with industry experts and business leaders\, learn the pros and cons of common agritourism models\, and improve your business at the first Potomac Highlands Agritourism Summit! \nLunch\, a grazing table\, and refreshments will be provided by The Grove\, with vegan options available. All attendees will also receive a tourism “goodie bag” full of resources and WV speciality items. \nIf you are interested in attending\, please register at https://bit.ly/2023AgritourismSummit \nThere is no cost to attend. Please register by March 1. \nSpecial thanks to our partners for making this possible: WVU Extension Service\, the WV Department of Agriculture\, Appalachian Forest National Heritage Area\, and the Claude Worthington Benedum Foundation. \nSCHEDULE OF EVENTS: \n10 A.M. Welcome by Eastern President Thomas Striplin \n11:30 A.M. Keynote Presentation + Q&A by Dr. Dee Signh-Knights \n11:50 A.M. Lunch by The Grove \n12 – 2:50 P.M. Breakout Sessions \n\nResources for Improving Your Agritourism Enterprise (with WV Grown\, Tourism Office and more)\nHospitality in Food and Drink Tourism (with Still Hollow\, Swilled Dog\, and more)\nInnovative Ideas to Enhance Tourism in the Potomac Highlands (with Frostmore Farms)\nPros and Cons of Agritourism and Seasonal “Pick-Your-Own” Models (with Buena Vista Farm\, May Tree Farm. CW’s Corn Maze and more)\n\n3 P.M. Closing Session + Survey \n\nMaya Paul – Agritourism Brochure Highlight
URL:https://easternwv.edu/event/potomac-highlands-agritourism-summit/
LOCATION:Misty Mountain Event Barn\, 450 Misty Mountain Road\, Fisher\, WV\, United States
END:VEVENT
BEGIN:VEVENT
DTSTART;TZID=America/New_York:20230321T120000
DTEND;TZID=America/New_York:20230321T130000
DTSTAMP:20260420T192355
CREATED:20230305T014328Z
LAST-MODIFIED:20230305T014328Z
UID:10000113-1679400000-1679403600@easternwv.edu
SUMMARY:Career Services Mini Course: Benefits of Building a LinkedIn Profile
DESCRIPTION:On Tuesday\, March 21\, there will be another free Mini-Course held in Room 111\, from 12 p.m. – 1 pm. \nFree Professional Headshots Available at Mini-Course! \nTopics: \nFeatures & Benefits of LinkedIn \nNetworking 101 \nSteps in Profile Development \nTo register\, go to:https://forms.office.com/Pages/ResponsePage.aspx?id=dhJoUtqWh0qK42yxRxUAeZ-AlBuhcm1ChW8eBB7mkilUQ0VMTExXSFZER1QzV0JIMVdNNThUUENUQi4u \n\nQuestions? Ask Dixie Heavener\, Career Counselor 304-434-8000 ext. 9239 or dixie.heavener@easternwv.edu
URL:https://easternwv.edu/event/career-services-mini-course-benefits-of-building-a-linkedin-profile/
LOCATION:Eastern West Virginia Community and Technical College\, 316 Eastern Drive\, Moorefield\, WV\, 26836\, United States
CATEGORIES:Career Services,Spring 2023
END:VEVENT
BEGIN:VEVENT
DTSTART;TZID=America/New_York:20230322T080000
DTEND;TZID=America/New_York:20230322T170000
DTSTAMP:20260420T192355
CREATED:20220224T024158Z
LAST-MODIFIED:20230322T132656Z
UID:10000163-1679472000-1679504400@easternwv.edu
SUMMARY:Early Bird Registration
DESCRIPTION:Register for summer or fall courses by email\, phone\, on-campus\, or through MyEastern from 8 a.m. – 5 p.m. on March 22. Summer courses begin May 22 and fall courses begin August 21!
URL:https://easternwv.edu/event/early-bird-registration-spring-2022/
LOCATION:Eastern West Virginia Community and Technical College\, 316 Eastern Drive\, Moorefield\, WV\, 26836\, United States
CATEGORIES:Admissions,Fall 2023,Summer 2023
END:VEVENT
BEGIN:VEVENT
DTSTART;TZID=America/New_York:20230328T130000
DTEND;TZID=America/New_York:20230328T153000
DTSTAMP:20260420T192355
CREATED:20230305T005239Z
LAST-MODIFIED:20230305T011006Z
UID:10000111-1680008400-1680017400@easternwv.edu
SUMMARY:Lunch & Learn: Crucial and Courageous Conversations Training
DESCRIPTION:On March 28\, guest presenter\, Justin L. Brown\, will lead an interactive presentation on how to identify discriminatory practices in the workplace and start conversations around equality and inclusion. \nTopics are presented in interactive scenarios\, with realistic video scenarios\, knowledge checks\, and other assessments that prompt learners to think about their own assumptions\, behaviors\, and experiences. \nThis program will ask questions of:\nHow do we host a conversation such as this?\nWho needs to be in the room?\nWhat happens if something goes wrong?\nAll of this and more are explored in this training! \nAs we become aware of implicit biases and shed light on discriminatory practices\, we have the opportunity (and responsibility) to become participants in the conversation around equality and inclusion. \nContact Monica Wilson at monica.wilson@easternwv.edu by March 14 to attend in person. To access the virtual Zoom session on the day of the training\, go to https://us02web.zoom.us/j/86426425397
URL:https://easternwv.edu/event/lunch-learn-crucial-and-courageous-conversations-training/
LOCATION:Eastern West Virginia Community and Technical College\, 316 Eastern Drive\, Moorefield\, WV\, 26836\, United States
CATEGORIES:Spring 2023
END:VEVENT
BEGIN:VEVENT
DTSTART;VALUE=DATE:20230331
DTEND;VALUE=DATE:20230401
DTSTAMP:20260420T192355
CREATED:20230325T021900Z
LAST-MODIFIED:20230325T022544Z
UID:10000115-1680220800-1680307199@easternwv.edu
SUMMARY:Registration for Summer 2023 and Fall 2023 Begins
DESCRIPTION:Registration
URL:https://easternwv.edu/event/registration-for-summer-2023-and-fall-2023-begins/
CATEGORIES:Academics,Admissions,Fall 2023,Summer 2023
END:VEVENT
END:VCALENDAR