BEGIN:VCALENDAR
VERSION:2.0
PRODID:-//Eastern West Virginia Community and Technical College - ECPv6.15.20//NONSGML v1.0//EN
CALSCALE:GREGORIAN
METHOD:PUBLISH
X-ORIGINAL-URL:https://easternwv.edu
X-WR-CALDESC:Events for Eastern West Virginia Community and Technical College
REFRESH-INTERVAL;VALUE=DURATION:PT1H
X-Robots-Tag:noindex
X-PUBLISHED-TTL:PT1H
BEGIN:VTIMEZONE
TZID:America/New_York
BEGIN:DAYLIGHT
TZOFFSETFROM:-0500
TZOFFSETTO:-0400
TZNAME:EDT
DTSTART:20240310T070000
END:DAYLIGHT
BEGIN:STANDARD
TZOFFSETFROM:-0400
TZOFFSETTO:-0500
TZNAME:EST
DTSTART:20241103T060000
END:STANDARD
BEGIN:DAYLIGHT
TZOFFSETFROM:-0500
TZOFFSETTO:-0400
TZNAME:EDT
DTSTART:20250309T070000
END:DAYLIGHT
BEGIN:STANDARD
TZOFFSETFROM:-0400
TZOFFSETTO:-0500
TZNAME:EST
DTSTART:20251102T060000
END:STANDARD
BEGIN:DAYLIGHT
TZOFFSETFROM:-0500
TZOFFSETTO:-0400
TZNAME:EDT
DTSTART:20260308T070000
END:DAYLIGHT
BEGIN:STANDARD
TZOFFSETFROM:-0400
TZOFFSETTO:-0500
TZNAME:EST
DTSTART:20261101T060000
END:STANDARD
END:VTIMEZONE
BEGIN:VEVENT
DTSTART;TZID=America/New_York:20250311T120000
DTEND;TZID=America/New_York:20250311T130000
DTSTAMP:20260424T124105
CREATED:20250102T195712Z
LAST-MODIFIED:20250102T195712Z
UID:10000294-1741694400-1741698000@easternwv.edu
SUMMARY:C.R.A.M. Workshop-The Flower Exercise: A Comprehensive Self-Inventory
DESCRIPTION:The Flower Exercise: A Comprehensive Self-Inventory\nPresented by Dixie Heavener\, Career Counselor \nTuesday\, March 11\, 2025 | 12:00 p.m. – 1:00 p.m. | Room 111 (Career Services Center) \nLearn the seven ways of describing YOURself using the language of the workplace (purpose in life\, people\, working conditions\, transferrable skills\, knowledge\, salary\, and geography). By completing this 1-hour exercise\, you will have performed the most powerful self-inventory and job-hunting method you can use. You will also receive a free copy of the #1 best-selling career book of all time\, “What Color is Your Parachute? Your Guide to a Lifetime of Meaningful Work and Career Success.” Limited to 15 participants!
URL:https://easternwv.edu/event/c-r-a-m-workshop-the-flower-exercise-a-comprehensive-self-inventory/
CATEGORIES:Career Services,Spring 2025
END:VEVENT
END:VCALENDAR