BEGIN:VCALENDAR
VERSION:2.0
PRODID:-//Eastern West Virginia Community and Technical College - ECPv6.15.20//NONSGML v1.0//EN
CALSCALE:GREGORIAN
METHOD:PUBLISH
X-ORIGINAL-URL:https://easternwv.edu
X-WR-CALDESC:Events for Eastern West Virginia Community and Technical College
REFRESH-INTERVAL;VALUE=DURATION:PT1H
X-Robots-Tag:noindex
X-PUBLISHED-TTL:PT1H
BEGIN:VTIMEZONE
TZID:America/New_York
BEGIN:DAYLIGHT
TZOFFSETFROM:-0500
TZOFFSETTO:-0400
TZNAME:EDT
DTSTART:20230312T070000
END:DAYLIGHT
BEGIN:STANDARD
TZOFFSETFROM:-0400
TZOFFSETTO:-0500
TZNAME:EST
DTSTART:20231105T060000
END:STANDARD
BEGIN:DAYLIGHT
TZOFFSETFROM:-0500
TZOFFSETTO:-0400
TZNAME:EDT
DTSTART:20240310T070000
END:DAYLIGHT
BEGIN:STANDARD
TZOFFSETFROM:-0400
TZOFFSETTO:-0500
TZNAME:EST
DTSTART:20241103T060000
END:STANDARD
BEGIN:DAYLIGHT
TZOFFSETFROM:-0500
TZOFFSETTO:-0400
TZNAME:EDT
DTSTART:20250309T070000
END:DAYLIGHT
BEGIN:STANDARD
TZOFFSETFROM:-0400
TZOFFSETTO:-0500
TZNAME:EST
DTSTART:20251102T060000
END:STANDARD
END:VTIMEZONE
BEGIN:VEVENT
DTSTART;VALUE=DATE:20240630
DTEND;VALUE=DATE:20240701
DTSTAMP:20260424T202540
CREATED:20240529T150046Z
LAST-MODIFIED:20240529T150126Z
UID:10000265-1719705600-1719791999@easternwv.edu
SUMMARY:Hardy County STEM Festival: Vendor Application
DESCRIPTION:Hardy County STEM Festival Vendor Proposal Form- Deadline– June 30\, 2024\nDate- October 5\, 2024\nTime: 11 am-3 pm\nLocation: Eastern West Virginia Community and Technical College Moorefield\, WV 26836\nVendor Arrival & Setup: 9:30 am-11 am \nOverview:\nThis year’s STEM Festival will be the first of its kind in Hardy County. The STEM Festival is expected to host up to 1\,000 students\, families\, and community members. Sponsored by Moorefield Robotics\, Eastern WV CTC\, and the WVU Extension office\, the mission of the STEM Festival is to motivate the interest of our youths in Science\, Technology\, Engineering\, and Mathematics (STEM) activities and careers by producing and facilitating\, exciting\, educational and interactive science activities. \nThe festival format allows guests and families to travel (or walk) through the buildings and outdoor spaces of the Eastern WV CTC campus at their own leisure while engaging in interactive experiences offered by facilitators who have traveled from a multi-state region. Facilitators who offer interactive experiences or engaging activities are given table and chair setups at assigned locations on campus. Facilitators should be prepared to meet with hundreds of guests throughout the day as guests visit and engage in activities at a leisurely pace. \nVendor Registration- Booth Types:\nYou may choose to register an “Interactive Booth” that hosts activities like “make and take” items or short interactive experiences. Notable examples from similar events have included 3D printing demonstrations\, monarch migration games\, SUGO robotics demonstration and build activities\, the science of cotton candy (with a free sample treat)\, miniature catapults\, make your own butter\, exploring cells\, launching rockets\, and building miniature parachutes. \nYou may choose to register an “Informational Booth” to pass out information in more of a conference-style expo. \nIf registering multiple booths\, please fill out the form for each one. \nVendor Application Form Here: https://forms.gle/aDDn1CVHrfnTXWDJ9 \nEquipment/Setup:\nRegardless of booth type\, 1 table will be provided along with 3 chairs. If you plan on bringing additional materials or if more space is necessary\, please indicate so at the end of this form under “Other”\nPresenters are required to bring their own exhibit materials including computers. \nFood:\nFood trucks and concessions will be on site should you wish to purchase lunch or snacks. Presenters are allowed to bring packed lunches if desired. \nMedia/Advertising:\nPresenters are expected to advertise involvement with the festival across various platforms including but not limited to social media\, email list serves\, etc. \nVendor Selection:\nIf you are selected as a presenter\, you will receive a confirmation email by July 12th. \nFeel free to reach out with any questions. \nalicen.adkins@k12.wv.us or bonnie.crites@k12.wv.us
URL:https://easternwv.edu/event/hardy-county-stem-festival-vendor-application/
CATEGORIES:Fall 2024,Partnerships
END:VEVENT
END:VCALENDAR